BEGIN:VCALENDAR
VERSION:2.0
PRODID:-//Word of Life Church - ECPv6.15.20//NONSGML v1.0//EN
CALSCALE:GREGORIAN
METHOD:PUBLISH
X-WR-CALNAME:Word of Life Church
X-ORIGINAL-URL:https://wllife.org
X-WR-CALDESC:Events for Word of Life Church
REFRESH-INTERVAL;VALUE=DURATION:PT1H
X-Robots-Tag:noindex
X-PUBLISHED-TTL:PT1H
BEGIN:VTIMEZONE
TZID:UTC
BEGIN:STANDARD
TZOFFSETFROM:+0000
TZOFFSETTO:+0000
TZNAME:UTC
DTSTART:20250101T000000
END:STANDARD
END:VTIMEZONE
BEGIN:VEVENT
DTSTART;TZID=UTC:20260412T100000
DTEND;TZID=UTC:20260524T170000
DTSTAMP:20260425T120730
CREATED:20260331T225248Z
LAST-MODIFIED:20260331T235646Z
UID:10000801-1775988000-1779642000@wllife.org
SUMMARY:"Authorized" the Series- Walk like you know!
DESCRIPTION:Join us for a life-changing new series at The Life\nWalk Like You Know… You’ve Been Authorized!\nStep into the authority that already belongs to you in Christ.
URL:https://wllife.org/event/authorized-the-series-walk-like-you-know/2026-04-12/
ATTACH;FMTTYPE=image/jpeg:https://wllife.org/wp-content/uploads/2026/03/Authorized-Sermon-Series-03.jpg
END:VEVENT
BEGIN:VEVENT
DTSTART;TZID=UTC:20260419T100000
DTEND;TZID=UTC:20260531T170000
DTSTAMP:20260425T120730
CREATED:20260331T225248Z
LAST-MODIFIED:20260331T235646Z
UID:10000802-1776592800-1780246800@wllife.org
SUMMARY:"Authorized" the Series- Walk like you know!
DESCRIPTION:Join us for a life-changing new series at The Life\nWalk Like You Know… You’ve Been Authorized!\nStep into the authority that already belongs to you in Christ.
URL:https://wllife.org/event/authorized-the-series-walk-like-you-know/2026-04-19/
ATTACH;FMTTYPE=image/jpeg:https://wllife.org/wp-content/uploads/2026/03/Authorized-Sermon-Series-03.jpg
END:VEVENT
BEGIN:VEVENT
DTSTART;TZID=UTC:20260426T100000
DTEND;TZID=UTC:20260607T170000
DTSTAMP:20260425T120730
CREATED:20260331T225248Z
LAST-MODIFIED:20260331T235646Z
UID:10000803-1777197600-1780851600@wllife.org
SUMMARY:"Authorized" the Series- Walk like you know!
DESCRIPTION:Join us for a life-changing new series at The Life\nWalk Like You Know… You’ve Been Authorized!\nStep into the authority that already belongs to you in Christ.
URL:https://wllife.org/event/authorized-the-series-walk-like-you-know/2026-04-26/
ATTACH;FMTTYPE=image/jpeg:https://wllife.org/wp-content/uploads/2026/03/Authorized-Sermon-Series-03.jpg
END:VEVENT
BEGIN:VEVENT
DTSTART;TZID=UTC:20260503T100000
DTEND;TZID=UTC:20260614T170000
DTSTAMP:20260425T120730
CREATED:20260331T225248Z
LAST-MODIFIED:20260331T235646Z
UID:10000804-1777802400-1781456400@wllife.org
SUMMARY:"Authorized" the Series- Walk like you know!
DESCRIPTION:Join us for a life-changing new series at The Life\nWalk Like You Know… You’ve Been Authorized!\nStep into the authority that already belongs to you in Christ.
URL:https://wllife.org/event/authorized-the-series-walk-like-you-know/2026-05-03/
ATTACH;FMTTYPE=image/jpeg:https://wllife.org/wp-content/uploads/2026/03/Authorized-Sermon-Series-03.jpg
END:VEVENT
BEGIN:VEVENT
DTSTART;TZID=UTC:20260504T180000
DTEND;TZID=UTC:20260504T200000
DTSTAMP:20260425T120730
CREATED:20260331T234757Z
LAST-MODIFIED:20260331T234954Z
UID:10001069-1777917600-1777924800@wllife.org
SUMMARY:Prayer
DESCRIPTION:Corporate Prayer | First Monday of Every Month\nJoin us in the sanctuary for unified prayer.\n“If you abide in Me\, and My words abide in you\, you will ask what you desire\, and it shall be done for you.” — John 15:7
URL:https://wllife.org/event/prayer/2026-05-04/
ATTACH;FMTTYPE=image/jpeg:https://wllife.org/wp-content/uploads/2026/03/Blue-v02-screen-reminder-scaled.jpeg
END:VEVENT
BEGIN:VEVENT
DTSTART;TZID=UTC:20260510T100000
DTEND;TZID=UTC:20260621T170000
DTSTAMP:20260425T120730
CREATED:20260331T225248Z
LAST-MODIFIED:20260331T235646Z
UID:10000805-1778407200-1782061200@wllife.org
SUMMARY:"Authorized" the Series- Walk like you know!
DESCRIPTION:Join us for a life-changing new series at The Life\nWalk Like You Know… You’ve Been Authorized!\nStep into the authority that already belongs to you in Christ.
URL:https://wllife.org/event/authorized-the-series-walk-like-you-know/2026-05-10/
ATTACH;FMTTYPE=image/jpeg:https://wllife.org/wp-content/uploads/2026/03/Authorized-Sermon-Series-03.jpg
END:VEVENT
BEGIN:VEVENT
DTSTART;TZID=UTC:20260517T100000
DTEND;TZID=UTC:20260628T170000
DTSTAMP:20260425T120730
CREATED:20260331T225248Z
LAST-MODIFIED:20260331T235646Z
UID:10000806-1779012000-1782666000@wllife.org
SUMMARY:"Authorized" the Series- Walk like you know!
DESCRIPTION:Join us for a life-changing new series at The Life\nWalk Like You Know… You’ve Been Authorized!\nStep into the authority that already belongs to you in Christ.
URL:https://wllife.org/event/authorized-the-series-walk-like-you-know/2026-05-17/
ATTACH;FMTTYPE=image/jpeg:https://wllife.org/wp-content/uploads/2026/03/Authorized-Sermon-Series-03.jpg
END:VEVENT
BEGIN:VEVENT
DTSTART;TZID=UTC:20260524T100000
DTEND;TZID=UTC:20260705T170000
DTSTAMP:20260425T120730
CREATED:20260331T225248Z
LAST-MODIFIED:20260331T235646Z
UID:10000807-1779616800-1783270800@wllife.org
SUMMARY:"Authorized" the Series- Walk like you know!
DESCRIPTION:Join us for a life-changing new series at The Life\nWalk Like You Know… You’ve Been Authorized!\nStep into the authority that already belongs to you in Christ.
URL:https://wllife.org/event/authorized-the-series-walk-like-you-know/2026-05-24/
ATTACH;FMTTYPE=image/jpeg:https://wllife.org/wp-content/uploads/2026/03/Authorized-Sermon-Series-03.jpg
END:VEVENT
BEGIN:VEVENT
DTSTART;TZID=UTC:20260531T100000
DTEND;TZID=UTC:20260601T180000
DTSTAMP:20260425T120730
CREATED:20260331T224459Z
LAST-MODIFIED:20260331T235830Z
UID:10000799-1780221600-1780336800@wllife.org
SUMMARY:8 Year Celebration weekend
DESCRIPTION:8 Years Strong—And We’re Just Getting Started!\nEight is the number of new beginnings\, and we’re celebrating the faithfulness of God in every season. \nCome celebrate with us as we honor all that He has done and step into what He is doing next! \nSunday\, May 31\, 2026\nMonday Night\, June 1 at 6 PM\nAt The Life
URL:https://wllife.org/event/8-year-celebration-weekend/
ATTACH;FMTTYPE=image/jpeg:https://wllife.org/wp-content/uploads/2026/03/Screen-Graphic.jpg
END:VEVENT
BEGIN:VEVENT
DTSTART;TZID=UTC:20260531T100000
DTEND;TZID=UTC:20260712T170000
DTSTAMP:20260425T120730
CREATED:20260331T225248Z
LAST-MODIFIED:20260331T235646Z
UID:10000808-1780221600-1783875600@wllife.org
SUMMARY:"Authorized" the Series- Walk like you know!
DESCRIPTION:Join us for a life-changing new series at The Life\nWalk Like You Know… You’ve Been Authorized!\nStep into the authority that already belongs to you in Christ.
URL:https://wllife.org/event/authorized-the-series-walk-like-you-know/2026-05-31/
ATTACH;FMTTYPE=image/jpeg:https://wllife.org/wp-content/uploads/2026/03/Authorized-Sermon-Series-03.jpg
END:VEVENT
BEGIN:VEVENT
DTSTART;TZID=UTC:20260601T180000
DTEND;TZID=UTC:20260601T200000
DTSTAMP:20260425T120730
CREATED:20260331T234757Z
LAST-MODIFIED:20260331T234954Z
UID:10001070-1780336800-1780344000@wllife.org
SUMMARY:Prayer
DESCRIPTION:Corporate Prayer | First Monday of Every Month\nJoin us in the sanctuary for unified prayer.\n“If you abide in Me\, and My words abide in you\, you will ask what you desire\, and it shall be done for you.” — John 15:7
URL:https://wllife.org/event/prayer/2026-06-01/
ATTACH;FMTTYPE=image/jpeg:https://wllife.org/wp-content/uploads/2026/03/Blue-v02-screen-reminder-scaled.jpeg
END:VEVENT
BEGIN:VEVENT
DTSTART;TZID=UTC:20260607T100000
DTEND;TZID=UTC:20260719T170000
DTSTAMP:20260425T120730
CREATED:20260331T225248Z
LAST-MODIFIED:20260331T235646Z
UID:10000809-1780826400-1784480400@wllife.org
SUMMARY:"Authorized" the Series- Walk like you know!
DESCRIPTION:Join us for a life-changing new series at The Life\nWalk Like You Know… You’ve Been Authorized!\nStep into the authority that already belongs to you in Christ.
URL:https://wllife.org/event/authorized-the-series-walk-like-you-know/2026-06-07/
ATTACH;FMTTYPE=image/jpeg:https://wllife.org/wp-content/uploads/2026/03/Authorized-Sermon-Series-03.jpg
END:VEVENT
BEGIN:VEVENT
DTSTART;TZID=UTC:20260614T100000
DTEND;TZID=UTC:20260726T170000
DTSTAMP:20260425T120730
CREATED:20260331T225248Z
LAST-MODIFIED:20260331T235646Z
UID:10000810-1781431200-1785085200@wllife.org
SUMMARY:"Authorized" the Series- Walk like you know!
DESCRIPTION:Join us for a life-changing new series at The Life\nWalk Like You Know… You’ve Been Authorized!\nStep into the authority that already belongs to you in Christ.
URL:https://wllife.org/event/authorized-the-series-walk-like-you-know/2026-06-14/
ATTACH;FMTTYPE=image/jpeg:https://wllife.org/wp-content/uploads/2026/03/Authorized-Sermon-Series-03.jpg
END:VEVENT
BEGIN:VEVENT
DTSTART;TZID=UTC:20260621T100000
DTEND;TZID=UTC:20260802T170000
DTSTAMP:20260425T120730
CREATED:20260331T225248Z
LAST-MODIFIED:20260331T235646Z
UID:10000811-1782036000-1785690000@wllife.org
SUMMARY:"Authorized" the Series- Walk like you know!
DESCRIPTION:Join us for a life-changing new series at The Life\nWalk Like You Know… You’ve Been Authorized!\nStep into the authority that already belongs to you in Christ.
URL:https://wllife.org/event/authorized-the-series-walk-like-you-know/2026-06-21/
ATTACH;FMTTYPE=image/jpeg:https://wllife.org/wp-content/uploads/2026/03/Authorized-Sermon-Series-03.jpg
END:VEVENT
BEGIN:VEVENT
DTSTART;TZID=UTC:20260628T100000
DTEND;TZID=UTC:20260809T170000
DTSTAMP:20260425T120730
CREATED:20260331T225248Z
LAST-MODIFIED:20260331T235646Z
UID:10000812-1782640800-1786294800@wllife.org
SUMMARY:"Authorized" the Series- Walk like you know!
DESCRIPTION:Join us for a life-changing new series at The Life\nWalk Like You Know… You’ve Been Authorized!\nStep into the authority that already belongs to you in Christ.
URL:https://wllife.org/event/authorized-the-series-walk-like-you-know/2026-06-28/
ATTACH;FMTTYPE=image/jpeg:https://wllife.org/wp-content/uploads/2026/03/Authorized-Sermon-Series-03.jpg
END:VEVENT
BEGIN:VEVENT
DTSTART;TZID=UTC:20260705T100000
DTEND;TZID=UTC:20260816T170000
DTSTAMP:20260425T120730
CREATED:20260331T225248Z
LAST-MODIFIED:20260331T235646Z
UID:10000813-1783245600-1786899600@wllife.org
SUMMARY:"Authorized" the Series- Walk like you know!
DESCRIPTION:Join us for a life-changing new series at The Life\nWalk Like You Know… You’ve Been Authorized!\nStep into the authority that already belongs to you in Christ.
URL:https://wllife.org/event/authorized-the-series-walk-like-you-know/2026-07-05/
ATTACH;FMTTYPE=image/jpeg:https://wllife.org/wp-content/uploads/2026/03/Authorized-Sermon-Series-03.jpg
END:VEVENT
BEGIN:VEVENT
DTSTART;TZID=UTC:20260706T180000
DTEND;TZID=UTC:20260706T200000
DTSTAMP:20260425T120730
CREATED:20260331T234757Z
LAST-MODIFIED:20260331T234954Z
UID:10001071-1783360800-1783368000@wllife.org
SUMMARY:Prayer
DESCRIPTION:Corporate Prayer | First Monday of Every Month\nJoin us in the sanctuary for unified prayer.\n“If you abide in Me\, and My words abide in you\, you will ask what you desire\, and it shall be done for you.” — John 15:7
URL:https://wllife.org/event/prayer/2026-07-06/
ATTACH;FMTTYPE=image/jpeg:https://wllife.org/wp-content/uploads/2026/03/Blue-v02-screen-reminder-scaled.jpeg
END:VEVENT
BEGIN:VEVENT
DTSTART;TZID=UTC:20260712T100000
DTEND;TZID=UTC:20260823T170000
DTSTAMP:20260425T120730
CREATED:20260331T225248Z
LAST-MODIFIED:20260331T235646Z
UID:10000814-1783850400-1787504400@wllife.org
SUMMARY:"Authorized" the Series- Walk like you know!
DESCRIPTION:Join us for a life-changing new series at The Life\nWalk Like You Know… You’ve Been Authorized!\nStep into the authority that already belongs to you in Christ.
URL:https://wllife.org/event/authorized-the-series-walk-like-you-know/2026-07-12/
ATTACH;FMTTYPE=image/jpeg:https://wllife.org/wp-content/uploads/2026/03/Authorized-Sermon-Series-03.jpg
END:VEVENT
BEGIN:VEVENT
DTSTART;TZID=UTC:20260719T100000
DTEND;TZID=UTC:20260830T170000
DTSTAMP:20260425T120730
CREATED:20260331T225248Z
LAST-MODIFIED:20260331T235646Z
UID:10000815-1784455200-1788109200@wllife.org
SUMMARY:"Authorized" the Series- Walk like you know!
DESCRIPTION:Join us for a life-changing new series at The Life\nWalk Like You Know… You’ve Been Authorized!\nStep into the authority that already belongs to you in Christ.
URL:https://wllife.org/event/authorized-the-series-walk-like-you-know/2026-07-19/
ATTACH;FMTTYPE=image/jpeg:https://wllife.org/wp-content/uploads/2026/03/Authorized-Sermon-Series-03.jpg
END:VEVENT
BEGIN:VEVENT
DTSTART;TZID=UTC:20260726T100000
DTEND;TZID=UTC:20260906T170000
DTSTAMP:20260425T120730
CREATED:20260331T225248Z
LAST-MODIFIED:20260331T235646Z
UID:10000816-1785060000-1788714000@wllife.org
SUMMARY:"Authorized" the Series- Walk like you know!
DESCRIPTION:Join us for a life-changing new series at The Life\nWalk Like You Know… You’ve Been Authorized!\nStep into the authority that already belongs to you in Christ.
URL:https://wllife.org/event/authorized-the-series-walk-like-you-know/2026-07-26/
ATTACH;FMTTYPE=image/jpeg:https://wllife.org/wp-content/uploads/2026/03/Authorized-Sermon-Series-03.jpg
END:VEVENT
BEGIN:VEVENT
DTSTART;TZID=UTC:20260802T100000
DTEND;TZID=UTC:20260913T170000
DTSTAMP:20260425T120730
CREATED:20260331T225248Z
LAST-MODIFIED:20260331T235646Z
UID:10000817-1785664800-1789318800@wllife.org
SUMMARY:"Authorized" the Series- Walk like you know!
DESCRIPTION:Join us for a life-changing new series at The Life\nWalk Like You Know… You’ve Been Authorized!\nStep into the authority that already belongs to you in Christ.
URL:https://wllife.org/event/authorized-the-series-walk-like-you-know/2026-08-02/
ATTACH;FMTTYPE=image/jpeg:https://wllife.org/wp-content/uploads/2026/03/Authorized-Sermon-Series-03.jpg
END:VEVENT
BEGIN:VEVENT
DTSTART;TZID=UTC:20260803T180000
DTEND;TZID=UTC:20260803T200000
DTSTAMP:20260425T120730
CREATED:20260331T234757Z
LAST-MODIFIED:20260331T234954Z
UID:10001072-1785780000-1785787200@wllife.org
SUMMARY:Prayer
DESCRIPTION:Corporate Prayer | First Monday of Every Month\nJoin us in the sanctuary for unified prayer.\n“If you abide in Me\, and My words abide in you\, you will ask what you desire\, and it shall be done for you.” — John 15:7
URL:https://wllife.org/event/prayer/2026-08-03/
ATTACH;FMTTYPE=image/jpeg:https://wllife.org/wp-content/uploads/2026/03/Blue-v02-screen-reminder-scaled.jpeg
END:VEVENT
BEGIN:VEVENT
DTSTART;TZID=UTC:20260809T100000
DTEND;TZID=UTC:20260920T170000
DTSTAMP:20260425T120730
CREATED:20260331T225248Z
LAST-MODIFIED:20260331T235646Z
UID:10000818-1786269600-1789923600@wllife.org
SUMMARY:"Authorized" the Series- Walk like you know!
DESCRIPTION:Join us for a life-changing new series at The Life\nWalk Like You Know… You’ve Been Authorized!\nStep into the authority that already belongs to you in Christ.
URL:https://wllife.org/event/authorized-the-series-walk-like-you-know/2026-08-09/
ATTACH;FMTTYPE=image/jpeg:https://wllife.org/wp-content/uploads/2026/03/Authorized-Sermon-Series-03.jpg
END:VEVENT
BEGIN:VEVENT
DTSTART;TZID=UTC:20260816T100000
DTEND;TZID=UTC:20260927T170000
DTSTAMP:20260425T120730
CREATED:20260331T225248Z
LAST-MODIFIED:20260331T235646Z
UID:10000819-1786874400-1790528400@wllife.org
SUMMARY:"Authorized" the Series- Walk like you know!
DESCRIPTION:Join us for a life-changing new series at The Life\nWalk Like You Know… You’ve Been Authorized!\nStep into the authority that already belongs to you in Christ.
URL:https://wllife.org/event/authorized-the-series-walk-like-you-know/2026-08-16/
ATTACH;FMTTYPE=image/jpeg:https://wllife.org/wp-content/uploads/2026/03/Authorized-Sermon-Series-03.jpg
END:VEVENT
BEGIN:VEVENT
DTSTART;TZID=UTC:20260823T100000
DTEND;TZID=UTC:20261004T170000
DTSTAMP:20260425T120730
CREATED:20260331T225248Z
LAST-MODIFIED:20260331T235646Z
UID:10000820-1787479200-1791133200@wllife.org
SUMMARY:"Authorized" the Series- Walk like you know!
DESCRIPTION:Join us for a life-changing new series at The Life\nWalk Like You Know… You’ve Been Authorized!\nStep into the authority that already belongs to you in Christ.
URL:https://wllife.org/event/authorized-the-series-walk-like-you-know/2026-08-23/
ATTACH;FMTTYPE=image/jpeg:https://wllife.org/wp-content/uploads/2026/03/Authorized-Sermon-Series-03.jpg
END:VEVENT
BEGIN:VEVENT
DTSTART;TZID=UTC:20260830T100000
DTEND;TZID=UTC:20261011T170000
DTSTAMP:20260425T120730
CREATED:20260331T225248Z
LAST-MODIFIED:20260331T235646Z
UID:10000821-1788084000-1791738000@wllife.org
SUMMARY:"Authorized" the Series- Walk like you know!
DESCRIPTION:Join us for a life-changing new series at The Life\nWalk Like You Know… You’ve Been Authorized!\nStep into the authority that already belongs to you in Christ.
URL:https://wllife.org/event/authorized-the-series-walk-like-you-know/2026-08-30/
ATTACH;FMTTYPE=image/jpeg:https://wllife.org/wp-content/uploads/2026/03/Authorized-Sermon-Series-03.jpg
END:VEVENT
BEGIN:VEVENT
DTSTART;TZID=UTC:20260906T100000
DTEND;TZID=UTC:20261018T170000
DTSTAMP:20260425T120730
CREATED:20260331T225248Z
LAST-MODIFIED:20260331T235646Z
UID:10000822-1788688800-1792342800@wllife.org
SUMMARY:"Authorized" the Series- Walk like you know!
DESCRIPTION:Join us for a life-changing new series at The Life\nWalk Like You Know… You’ve Been Authorized!\nStep into the authority that already belongs to you in Christ.
URL:https://wllife.org/event/authorized-the-series-walk-like-you-know/2026-09-06/
ATTACH;FMTTYPE=image/jpeg:https://wllife.org/wp-content/uploads/2026/03/Authorized-Sermon-Series-03.jpg
END:VEVENT
BEGIN:VEVENT
DTSTART;TZID=UTC:20260907T180000
DTEND;TZID=UTC:20260907T200000
DTSTAMP:20260425T120730
CREATED:20260331T234757Z
LAST-MODIFIED:20260331T234954Z
UID:10001073-1788804000-1788811200@wllife.org
SUMMARY:Prayer
DESCRIPTION:Corporate Prayer | First Monday of Every Month\nJoin us in the sanctuary for unified prayer.\n“If you abide in Me\, and My words abide in you\, you will ask what you desire\, and it shall be done for you.” — John 15:7
URL:https://wllife.org/event/prayer/2026-09-07/
ATTACH;FMTTYPE=image/jpeg:https://wllife.org/wp-content/uploads/2026/03/Blue-v02-screen-reminder-scaled.jpeg
END:VEVENT
BEGIN:VEVENT
DTSTART;TZID=UTC:20260913T100000
DTEND;TZID=UTC:20261025T170000
DTSTAMP:20260425T120730
CREATED:20260331T225248Z
LAST-MODIFIED:20260331T235646Z
UID:10000823-1789293600-1792947600@wllife.org
SUMMARY:"Authorized" the Series- Walk like you know!
DESCRIPTION:Join us for a life-changing new series at The Life\nWalk Like You Know… You’ve Been Authorized!\nStep into the authority that already belongs to you in Christ.
URL:https://wllife.org/event/authorized-the-series-walk-like-you-know/2026-09-13/
ATTACH;FMTTYPE=image/jpeg:https://wllife.org/wp-content/uploads/2026/03/Authorized-Sermon-Series-03.jpg
END:VEVENT
BEGIN:VEVENT
DTSTART;TZID=UTC:20260920T100000
DTEND;TZID=UTC:20261101T170000
DTSTAMP:20260425T120730
CREATED:20260331T225248Z
LAST-MODIFIED:20260331T235646Z
UID:10000824-1789898400-1793552400@wllife.org
SUMMARY:"Authorized" the Series- Walk like you know!
DESCRIPTION:Join us for a life-changing new series at The Life\nWalk Like You Know… You’ve Been Authorized!\nStep into the authority that already belongs to you in Christ.
URL:https://wllife.org/event/authorized-the-series-walk-like-you-know/2026-09-20/
ATTACH;FMTTYPE=image/jpeg:https://wllife.org/wp-content/uploads/2026/03/Authorized-Sermon-Series-03.jpg
END:VEVENT
END:VCALENDAR